BEGIN:VCALENDAR
VERSION:2.0
PRODID:-//wp-events-plugin.com//6.5.2.2//EN
BEGIN:VEVENT
UID:1280@viper-room.at
DTSTART:20220507T190000Z
DTEND:20220508T040000Z
DTSTAMP:20220506T100438Z
URL:https://www.viper-room.at/events/sturmfrei-die-unboss-party
SUMMARY:STURMFREI\, DIE UNBOSS PARTY
DESCRIPTION:Wenn der Boss schon mal nicht kommen darf\, feiern wir mal rich
 tig
ATTACH;FMTTYPE=image/jpeg:https://www.viper-room.at/wp-content/uploads/202
 2/05/STURMFREI500.jpg
END:VEVENT
END:VCALENDAR