BEGIN:VCALENDAR
VERSION:2.0
PRODID:-//wp-events-plugin.com//6.5.2.2//EN
BEGIN:VEVENT
UID:2148@viper-room.at
DTSTART:20260307T210000Z
DTEND:20260308T040000Z
DTSTAMP:20260211T223900Z
URL:https://www.viper-room.at/events/near-dark-2026-03-07
SUMMARY:NEAR DARK
DESCRIPTION:Dark 80s Classics & New Retro Goth Sounds
ATTACH;FMTTYPE=image/jpeg:https://www.viper-room.at/wp-content/uploads/202
 6/01/NearDark_0326_VR500.jpg
CATEGORIES:Party
END:VEVENT
END:VCALENDAR