BEGIN:VCALENDAR
VERSION:2.0
PRODID:-//wp-events-plugin.com//6.5.2.2//EN
BEGIN:VEVENT
UID:2207@viper-room.at
DTSTART:20260603T173000Z
DTEND:20260603T210000Z
DTSTAMP:20260417T203506Z
URL:https://www.viper-room.at/events/metal-spirits-gathering-whisky-tastin
 g-0626
SUMMARY:METAL & SPIRITS GATHERING - WHISKY TASTING
DESCRIPTION:Motto: "this is the new shit"
ATTACH;FMTTYPE=image/jpeg:https://www.viper-room.at/wp-content/uploads/202
 6/04/WhiskyTasting_0626_VR500.jpg
CATEGORIES:Party
END:VEVENT
END:VCALENDAR