BEGIN:VCALENDAR
VERSION:2.0
PRODID:-//wp-events-plugin.com//6.5.2.2//EN
BEGIN:VEVENT
UID:2174@viper-room.at
DTSTART:20260525T150000Z
DTEND:20260525T224500Z
DTSTAMP:20260120T233128Z
URL:https://www.viper-room.at/events/live-vienna-slam-fest-2026
SUMMARY:Live: VIENNA SLAM FEST 2026
DESCRIPTION:mit WAKING THE CADAVER\, DYSENTERY\, STILLBIRTH\, ANHEDONIA u.m
 .
ATTACH;FMTTYPE=image/jpeg:https://www.viper-room.at/wp-content/uploads/202
 6/01/VSF_Poster_fb_VR500.jpg
CATEGORIES:Konzert
END:VEVENT
END:VCALENDAR