BEGIN:VCALENDAR
VERSION:2.0
PRODID:-//wp-events-plugin.com//6.5.2.2//EN
BEGIN:VEVENT
UID:2000@viper-room.at
DTSTART:20260121T180000Z
DTEND:20260121T224500Z
DTSTAMP:20251220T171232Z
URL:https://www.viper-room.at/events/live-transmission-the-sound-of-joy-di
 vision-2026
SUMMARY:Live: TRANSMISSION - The Sound Of Joy Division
DESCRIPTION:presented by VIPER ROOM VIENNA
ATTACH;FMTTYPE=image/jpeg:https://www.viper-room.at/wp-content/uploads/202
 5/05/Transmission26_VR500.jpg
CATEGORIES:Konzert
END:VEVENT
END:VCALENDAR