BEGIN:VCALENDAR
VERSION:2.0
PRODID:-//wp-events-plugin.com//6.5.2.2//EN
BEGIN:VEVENT
UID:1471@viper-room.at
DTSTART:20230521T180000Z
DTEND:20230521T224500Z
DTSTAMP:20230709T160410Z
URL:https://www.viper-room.at/events/live-the-devil-and-the-almighty-blues
SUMMARY:Live: THE DEVIL AND THE ALMIGHTY BLUES\, THE GREAT MACHINE\, MOTHER
 S OF THE LAND
DESCRIPTION:presented by VIPER ROOM VIENNA
ATTACH;FMTTYPE=image/jpeg:https://www.viper-room.at/wp-content/uploads/202
 3/03/TDATAB_Supports_VR500-1.jpg
CATEGORIES:Konzert
END:VEVENT
END:VCALENDAR