BEGIN:VCALENDAR
VERSION:2.0
PRODID:-//wp-events-plugin.com//6.5.2.2//EN
BEGIN:VEVENT
UID:1316@viper-room.at
DTSTART:20221001T180000Z
DTEND:20221001T220000Z
DTSTAMP:20220826T094343Z
URL:https://www.viper-room.at/events/live-stoned-jesus-greenleaf-somali-ya
 cht-club
SUMMARY:Live: STONED JESUS\, GREENLEAF\, SOMALI YACHT CLUB
DESCRIPTION:presented by Viper Room Vienna
ATTACH;FMTTYPE=image/jpeg:https://www.viper-room.at/wp-content/uploads/202
 2/08/stonedjesusPlakatVR500.jpg
CATEGORIES:Konzert
END:VEVENT
END:VCALENDAR