BEGIN:VCALENDAR
VERSION:2.0
PRODID:-//wp-events-plugin.com//6.5.2.2//EN
BEGIN:VEVENT
UID:1939@viper-room.at
DTSTART:20250521T180000Z
DTEND:20250521T221500Z
DTSTAMP:20250520T102129Z
URL:https://www.viper-room.at/events/live-stabbing-immortal-suffering-emas
 culator
SUMMARY:Live: STABBING\, IMMORTAL SUFFERING\, EMASCULATOR u.m.
DESCRIPTION:presented by VIENNA UNDERGROUND EV
ATTACH;FMTTYPE=image/jpeg:https://www.viper-room.at/wp-content/uploads/202
 5/02/Stabbing_Opener_VR500.jpg
CATEGORIES:Konzert
END:VEVENT
END:VCALENDAR