BEGIN:VCALENDAR
VERSION:2.0
PRODID:-//wp-events-plugin.com//6.5.2.2//EN
BEGIN:VEVENT
UID:1929@viper-room.at
DTSTART:20250210T170000Z
DTEND:20250210T224500Z
DTSTAMP:20250210T154926Z
URL:https://www.viper-room.at/events/live-silent-planet-like-moths-to-flam
 es-u-m
SUMMARY:AUSVERKAUFT!! Live: SILENT PLANET\, LIKE MOTHS TO FLAMES u.m.
DESCRIPTION:SOLD OUT!!!
ATTACH;FMTTYPE=image/jpeg:https://www.viper-room.at/wp-content/uploads/202
 5/01/SilentPlanet_VR500.jpg
CATEGORIES:Konzert
END:VEVENT
END:VCALENDAR