BEGIN:VCALENDAR
VERSION:2.0
PRODID:-//wp-events-plugin.com//6.5.2.2//EN
BEGIN:VEVENT
UID:1825@viper-room.at
DTSTART:20250120T180000Z
DTEND:20250120T224500Z
DTSTAMP:20241106T180306Z
URL:https://www.viper-room.at/events/live-siamese-chaosbay-blackgold
SUMMARY:Live: SIAMESE\, CHAOSBAY\, BLACKGOLD
DESCRIPTION:presented by MIND OVER MATTER
ATTACH;FMTTYPE=image/jpeg:https://www.viper-room.at/wp-content/uploads/202
 4/09/Siamese_VR500.jpg
CATEGORIES:Konzert
END:VEVENT
END:VCALENDAR