BEGIN:VCALENDAR
VERSION:2.0
PRODID:-//wp-events-plugin.com//6.5.2.2//EN
BEGIN:VEVENT
UID:1841@viper-room.at
DTSTART:20250121T173000Z
DTEND:20250121T224500Z
DTSTAMP:20250109T174455Z
URL:https://www.viper-room.at/events/live-psychonaut-4-frostmoon-eclipse-n
 ubivagant-u-m
SUMMARY:Live: PSYCHONAUT 4\, FROSTMOON ECLIPSE\, NUBIVAGANT u.m.
DESCRIPTION:presented by TON - Music Productions
ATTACH;FMTTYPE=image/jpeg:https://www.viper-room.at/wp-content/uploads/202
 4/10/Psychonaut4_VR500.jpg
CATEGORIES:Konzert
END:VEVENT
END:VCALENDAR