BEGIN:VCALENDAR
VERSION:2.0
PRODID:-//wp-events-plugin.com//6.5.2.2//EN
BEGIN:VEVENT
UID:113@viper-room.at
DTSTART:20180120T183000Z
DTEND:20180121T030000Z
DTSTAMP:20180120T134504Z
URL:https://www.viper-room.at/events/live-mosaic-goath-theotoxin-the-negat
 ive-bias
SUMMARY:Live: MOSAIC\, GOATH\, THEOTOXIN\, THE NEGATIVE BIAS
DESCRIPTION:presented by Exit-Music
ATTACH;FMTTYPE=image/jpeg:https://www.viper-room.at/wp-content/uploads/201
 7/07/MosaicWebSmall.jpg
CATEGORIES:Konzert
LOCATION:Viper Room Keller\, Landstrasser Hauptstraße 38\, Wien\, 1030\, 
 Österreich
X-APPLE-STRUCTURED-LOCATION;VALUE=URI;X-ADDRESS=Landstrasser Hauptstraße 3
 8\, Wien\, 1030\, Österreich;X-APPLE-RADIUS=100;X-TITLE=Viper Room Keller
 :geo:0,0
END:VEVENT
END:VCALENDAR