BEGIN:VCALENDAR
VERSION:2.0
PRODID:-//wp-events-plugin.com//6.5.2.2//EN
BEGIN:VEVENT
UID:1312@viper-room.at
DTSTART:20220929T180000Z
DTEND:20220929T220000Z
DTSTAMP:20220801T151156Z
URL:https://www.viper-room.at/events/live-maiden-united
SUMMARY:Live: Maiden uniteD
DESCRIPTION:presented by Maiden UniteD
ATTACH;FMTTYPE=image/jpeg:https://www.viper-room.at/wp-content/uploads/202
 2/08/MaidenUnitedVR500.jpg
END:VEVENT
END:VCALENDAR