BEGIN:VCALENDAR
VERSION:2.0
PRODID:-//wp-events-plugin.com//6.5.2.2//EN
BEGIN:VEVENT
UID:1273@viper-room.at
DTSTART:20220914T180000Z
DTEND:20220914T220000Z
DTSTAMP:20220827T171431Z
URL:https://www.viper-room.at/events/live-lacrimas-profundere
SUMMARY:Live: LACRIMAS PROFUNDERE
DESCRIPTION:How To Shroud Yourself With Night Tour 2022
ATTACH;FMTTYPE=image/jpeg:https://www.viper-room.at/wp-content/uploads/202
 2/04/LacrimasProfundereVR500.jpg
CATEGORIES:Konzert
END:VEVENT
END:VCALENDAR