BEGIN:VCALENDAR
VERSION:2.0
PRODID:-//wp-events-plugin.com//6.5.2.2//EN
BEGIN:VEVENT
UID:2077@viper-room.at
DTSTART:20260420T173000Z
DTEND:20260420T221500Z
DTSTAMP:20260328T124747Z
URL:https://www.viper-room.at/events/live-iotunn-in-vain-nephylim
SUMMARY:Live: IOTUNN\, IN VAIN\, NEPHYLIM
DESCRIPTION:presented by TON - Music Productions
ATTACH;FMTTYPE=image/jpeg:https://www.viper-room.at/wp-content/uploads/202
 5/11/Iotunn_A4_update_VR500.jpg
CATEGORIES:Konzert
END:VEVENT
END:VCALENDAR