BEGIN:VCALENDAR
VERSION:2.0
PRODID:-//wp-events-plugin.com//6.5.2.2//EN
BEGIN:VEVENT
UID:2060@viper-room.at
DTSTART:20260201T183000Z
DTEND:20260201T224500Z
DTSTAMP:20251027T202252Z
URL:https://www.viper-room.at/events/live-grausame-toechter-%c7%9d-n-d
SUMMARY:Live: GRAUSAME TÖCHTER\, Ǝ.N.D
DESCRIPTION:presented by SCHATTENWELT
ATTACH;FMTTYPE=image/jpeg:https://www.viper-room.at/wp-content/uploads/202
 5/10/GrausameToechter26_VR500.jpg
CATEGORIES:Konzert
END:VEVENT
END:VCALENDAR