BEGIN:VCALENDAR
VERSION:2.0
PRODID:-//wp-events-plugin.com//6.5.2.2//EN
BEGIN:VEVENT
UID:1826@viper-room.at
DTSTART:20250216T173000Z
DTEND:20250216T224500Z
DTSTAMP:20250210T192158Z
URL:https://www.viper-room.at/events/live-enterprise-earth-distant-the-las
 t-ten-seconds-of-life-harbinger
SUMMARY:Live: ENTERPRISE EARTH\, DISTANT\, THE LAST TEN SECONDS OF LIFE\, H
 ARBINGER
DESCRIPTION:presented by TON - Music Productions
ATTACH;FMTTYPE=image/jpeg:https://www.viper-room.at/wp-content/uploads/202
 4/09/Distant_Hoch_Web_VR500.jpg
CATEGORIES:Konzert
END:VEVENT
END:VCALENDAR