BEGIN:VCALENDAR
VERSION:2.0
PRODID:-//wp-events-plugin.com//6.5.2.2//EN
BEGIN:VEVENT
UID:1042@viper-room.at
DTSTART:20210328T180000Z
DTEND:20210329T000000Z
DTSTAMP:20210205T130834Z
URL:https://www.viper-room.at/events/live-draconian-nightfall-guest
SUMMARY:VERSCHOBEN 27.3.2022!! DRACONIAN\, NIGHTFALL & GUEST
DESCRIPTION:POSTPONED TO 27.3.2022!!
CATEGORIES:Konzert
LOCATION:Viper Room Keller\, Landstrasser Hauptstraße 38\, Wien\, 1030\, 
 Österreich
X-APPLE-STRUCTURED-LOCATION;VALUE=URI;X-ADDRESS=Landstrasser Hauptstraße 3
 8\, Wien\, 1030\, Österreich;X-APPLE-RADIUS=100;X-TITLE=Viper Room Keller
 :geo:0,0
END:VEVENT
END:VCALENDAR