BEGIN:VCALENDAR
VERSION:2.0
PRODID:-//wp-events-plugin.com//6.5.2.2//EN
BEGIN:VEVENT
UID:987@viper-room.at
DTSTART:20210302T180000Z
DTEND:20210303T030000Z
DTSTAMP:20210105T200130Z
URL:https://www.viper-room.at/events/live-dool-secrets-of-the-moon
SUMMARY:VERSCHOBEN 3.3.2022!! DOOL\, SECRETS OF THE MOON
DESCRIPTION:POSTPONED TO 03.03.2022!!!
CATEGORIES:Konzert
LOCATION:Viper Room Keller\, Landstrasser Hauptstraße 38\, Wien\, 1030\, 
 Österreich
X-APPLE-STRUCTURED-LOCATION;VALUE=URI;X-ADDRESS=Landstrasser Hauptstraße 3
 8\, Wien\, 1030\, Österreich;X-APPLE-RADIUS=100;X-TITLE=Viper Room Keller
 :geo:0,0
END:VEVENT
END:VCALENDAR