BEGIN:VCALENDAR
VERSION:2.0
PRODID:-//wp-events-plugin.com//6.5.2.2//EN
BEGIN:VEVENT
UID:1760@viper-room.at
DTSTART:20240819T180000Z
DTEND:20240819T224500Z
DTSTAMP:20240813T195935Z
URL:https://www.viper-room.at/events/live-disentomb-stillbirth-deformed-ca
 daver-vault
SUMMARY:Live: DISENTOMB\, STILLBIRTH\, DEFORMED CADAVER\, CHILD CEMETERY
DESCRIPTION:presented by VIENNA UNDERGROUND EV
ATTACH;FMTTYPE=image/jpeg:https://www.viper-room.at/wp-content/uploads/202
 4/05/Stillbirth2024_quadr_VR500.jpg
CATEGORIES:Konzert
END:VEVENT
END:VCALENDAR