BEGIN:VCALENDAR
VERSION:2.0
PRODID:-//wp-events-plugin.com//6.5.2.2//EN
BEGIN:VEVENT
UID:1155@viper-room.at
DTSTART:20211021T180000Z
DTEND:20211022T000000Z
DTSTAMP:20211002T230738Z
URL:https://www.viper-room.at/events/live-cutting-threads-a-memory-misread
 -antiteil-ex-u-s-e-r
SUMMARY:Live: CUTTING THREADS\, A MEMORY MISREAD\, ANTITEIL (ex-U.S.E.R.)
DESCRIPTION:   
ATTACH;FMTTYPE=image/jpeg:https://www.viper-room.at/wp-content/uploads/202
 0/04/ViperRoomViennaLogoSmall.jpg
CATEGORIES:Konzert
END:VEVENT
END:VCALENDAR