BEGIN:VCALENDAR
VERSION:2.0
PRODID:-//wp-events-plugin.com//6.5.2.2//EN
BEGIN:VEVENT
UID:2208@viper-room.at
DTSTART:20260521T170000Z
DTEND:20260521T231500Z
DTSTAMP:20260421T150322Z
URL:https://www.viper-room.at/events/lets-get-started-0526
SUMMARY:LET'S GET STARTED
DESCRIPTION:70's & 80's AFTER WORK DISCO PARTY
ATTACH;FMTTYPE=image/jpeg:https://www.viper-room.at/wp-content/uploads/202
 6/04/LetsGetStarted_0526_VR500.jpg
CATEGORIES:Party
END:VEVENT
END:VCALENDAR