BEGIN:VCALENDAR
VERSION:2.0
PRODID:-//wp-events-plugin.com//6.5.2.2//EN
BEGIN:VEVENT
UID:2191@viper-room.at
DTSTART:20260430T190000Z
DTEND:20260501T040000Z
DTSTAMP:20260226T220644Z
URL:https://www.viper-room.at/events/from-dusk-till-dawn-30-jahre-dj-erase
 rhead
SUMMARY:FROM DUSK TILL DAWN - 30 Jahre DJ ERASERHEAD
DESCRIPTION:BIRTHDAY BASH
ATTACH;FMTTYPE=image/jpeg:https://www.viper-room.at/wp-content/uploads/202
 6/02/FDTD_VR500.jpg
CATEGORIES:Party
END:VEVENT
END:VCALENDAR