BEGIN:VCALENDAR
VERSION:2.0
PRODID:-//wp-events-plugin.com//6.5.2.2//EN
BEGIN:VEVENT
UID:1410@viper-room.at
DTSTART:20230113T210000Z
DTEND:20230114T040000Z
DTSTAMP:20221104T131324Z
URL:https://www.viper-room.at/events/die-toten-hosen-vs-die-aerzte-nacht-2
 0
SUMMARY:"DIE TOTEN HOSEN" vs "DIE ÄRZTE" NACHT
DESCRIPTION:Bis zum bitteren Ende \;)
ATTACH;FMTTYPE=image/jpeg:https://www.viper-room.at/wp-content/uploads/201
 8/02/HosenÄrzteWebBig.jpg
CATEGORIES:Party
END:VEVENT
END:VCALENDAR