BEGIN:VCALENDAR
VERSION:2.0
PRODID:-//wp-events-plugin.com//6.5.2.2//EN
BEGIN:VEVENT
UID:1281@viper-room.at
DTSTART:20220918T180000Z
DTEND:20220918T220000Z
DTSTAMP:20220826T092845Z
URL:https://www.viper-room.at/events/der-weg-einer-freiheit-regarde-les-ho
 mmes-tomber-bizzarekult
SUMMARY:Live: DER WEG EINER FREIHEIT\, REGARDE LES HOMMES TOMBER u.m.
DESCRIPTION:presented by TON - Music Productions
ATTACH;FMTTYPE=image/jpeg:https://www.viper-room.at/wp-content/uploads/202
 2/05/DEEFVR500.jpg
CATEGORIES:Konzert
END:VEVENT
END:VCALENDAR