BEGIN:VCALENDAR
VERSION:2.0
PRODID:-//wp-events-plugin.com//6.5.2.2//EN
BEGIN:VEVENT
UID:2195@viper-room.at
DTSTART:20260523T210000Z
DTEND:20260524T040000Z
DTSTAMP:20260306T180215Z
URL:https://www.viper-room.at/events/come-as-you-are-0526
SUMMARY:COME AS YOU ARE
DESCRIPTION:A 90s Grunge & Alternative Night
ATTACH;FMTTYPE=image/jpeg:https://www.viper-room.at/wp-content/uploads/202
 6/03/ComeAsYouAre_0526_VR500.jpg
CATEGORIES:Party
END:VEVENT
END:VCALENDAR