BEGIN:VCALENDAR
VERSION:2.0
PRODID:-//wp-events-plugin.com//6.5.2.2//EN
BEGIN:VEVENT
UID:1119@viper-room.at
DTSTART:20211002T210000Z
DTEND:20211003T040000Z
DTSTAMP:20210922T190926Z
URL:https://www.viper-room.at/events/city-nights
SUMMARY:CITY NIGHTS
DESCRIPTION:Rock | Alternative | Indie
ATTACH;FMTTYPE=image/jpeg:https://www.viper-room.at/wp-content/uploads/202
 1/09/CityNightsSmall.jpg
CATEGORIES:Party
END:VEVENT
END:VCALENDAR