BEGIN:VCALENDAR
VERSION:2.0
PRODID:-//wp-events-plugin.com//6.5.2.2//EN
BEGIN:VEVENT
UID:1927@viper-room.at
DTSTART:20250420T210000Z
DTEND:20250421T040000Z
DTSTAMP:20250102T151436Z
URL:https://www.viper-room.at/events/black-easter-6
SUMMARY:BLACK EASTER
DESCRIPTION:Martial Industrial - Neo Folk - Dark Electro - Pagan Folk
ATTACH;FMTTYPE=image/jpeg:https://www.viper-room.at/wp-content/uploads/202
 5/01/BlackEaster0425_VR500.jpg
CATEGORIES:Party
END:VEVENT
END:VCALENDAR