BEGIN:VCALENDAR
VERSION:2.0
PRODID:-//wp-events-plugin.com//6.5.2.2//EN
BEGIN:VEVENT
UID:1491@viper-room.at
DTSTART:20230512T210000Z
DTEND:20230513T040000Z
DTSTAMP:20230331T153627Z
URL:https://www.viper-room.at/events/16-jahre-viper-room
SUMMARY:16  JAHRE VIPER ROOM VIENNA
DESCRIPTION:   
ATTACH;FMTTYPE=image/jpeg:https://www.viper-room.at/wp-content/uploads/202
 3/03/VR16_Flyer_CMYK_VR500.jpg
CATEGORIES:Party
END:VEVENT
END:VCALENDAR